BEGIN:VCALENDAR
VERSION:2.0
PRODID:-//wp-events-plugin.com//7.2.3.1//EN
TZID:Europe/Berlin
X-WR-TIMEZONE:Europe/Berlin
BEGIN:VEVENT
UID:26@nachtakademie.de
DTSTART;TZID=Europe/Berlin:20261116T190000
DTEND;TZID=Europe/Berlin:20261117T020000
DTSTAMP:20260415T071858Z
URL:https://nachtakademie.de/veranstaltung/seminar-ki-kompass-ihr-sicherer
 -hafen-im-ki-dschungel-4/
SUMMARY:Seminar KI-Kompass: Ihr sicherer Hafen im KI-Dschungel
DESCRIPTION:\n\n\n\nNachtakademie™ · Orientierungs-Nacht · 1 Nacht\n\nK
 I-Kompass: Ihr sicherer Hafen im KI-Dschungel\nVom Gefühl des Abgehängts
 eins zur klaren digitalen Strategie — in einer Nacht.\n\n\n\n\n\nSie hab
 en ChatGPT ausprobiert. Vielleicht Claude. Vielleicht beides. Sie haben ei
 n paar Texte generiert\, ein paar Fragen gestellt — und dann wieder aufg
 ehört\, weil das Ergebnis nicht wirklich zu Ihrem Business gepasst hat. S
 either läuft im Hintergrund ein leises Grundrauschen: Alle reden davon. A
 lle nutzen es. Ich irgendwie auch — aber nicht richtig.\n\nDas ist kein 
 Kompetenzproblem. Das ist ein Orientierungsproblem.\n\nIn dieser Nacht lö
 sen wir genau das. Nicht mit einem weiteren Überblick über Tools\, die S
 ie ohnehin schon kennen. Sondern mit einer systematischen Analyse Ihres ei
 genen Business: Wo verlieren Sie täglich Zeit an Aufgaben\, die eine gut 
 konfigurierte KI in Minuten erledigt? Welche Ihrer Kernaufgaben lassen sic
 h nicht delegieren — und welche schon? Und warum funktioniert das bei an
 deren\, aber bei Ihnen noch nicht?\n\nGehen Sie aus dieser Nacht mit einem
  persönlichen KI-System\, das zu Ihrem Business passt — nicht zu irgend
 einem.\n\n\n\nDer Ablauf der Nacht\n\n\n\n01\nTeil 1: Die Landkarte\nWir s
 ortieren\, was wirklich zählt: Welche KI-Systeme existieren\, was sie unt
 erscheidet — und welche drei davon für Selbstständige wie Sie entschei
 dend sind. Kein Tool-Bingo. Eine klare Orientierung.\n\n\n\n02\nTeil 2: Ih
 r Kurs\nWir analysieren gemeinsam Ihren Arbeitsalltag: Wo steckt Ihr grö
 ßter Zeitverlust? Welche Aufgaben wiederholen sich? Heraus kommt ein pers
 önlicher KI-Fahrplan — priorisiert\, realistisch\, sofort anwendbar.\n\
 n\n\n03\nTeil 3: Der erste Schritt\nSie konfigurieren Ihren ersten eigenen
  KI-Assistenten live — abgestimmt auf Ihre Branche\, Ihre Sprache\, Ihre
  Aufgaben. Kein generisches Ergebnis. Ein System\, das morgen früh funkti
 oniert.\n\n\n\n\n\nWas wir gemeinsam analysieren\n\n\n\nIhr Schmerzpunkt\n
 Was sich danach verändert\n\n\n\n\n„Ich probiere KI aus\, aber es passt
  nie wirklich zu mir."\nSie konfigurieren einen Assistenten\, der Ihre Spr
 ache spricht — nicht Musterantworten liefert.\n\n\n„Ich verliere tägl
 ich Stunden an Aufgaben\, die sich ständig wiederholen."\nSie identifizie
 ren die drei größten Zeitfresser in Ihrem Alltag und wissen\, wie KI sie
  übernimmt.\n\n\n„Ich weiß nicht\, was ich den Daten anvertrauen darf.
 "\nSie kennen die konkreten Regeln für Selbstständige — und handeln ab
  sofort sicher statt zögerlich.\n\n\n„Alle reden von KI — ich versteh
 e nicht\, was für mein Business wirklich zählt."\nSie verlassen diese Na
 cht mit einem priorisierten Fahrplan. Kein Rauschen mehr\, nur nächste Sc
 hritte.\n\n\nBesondere Hinweise: Keine technischen Vorkenntnisse erforderl
 ich. Wir starten bei Null.\nSie benötigen lediglich einen Rechner und die
  Neugier\, Ihr Business neu zu denken.\n\n\n\n\n\n\n\nInvestition in Ihre 
 Souveränität\n\n\nEARLY BIRD\n990 € zzgl. MwSt.\nFrühbucherpreis gül
 tig bis zum 26. Oktober 2026. Danach 1.290 €.\n\n\nDas Nachtakademie Sta
 rter-Set (Inklusive):\n\nDamit Sie die Nacht fokussiert und in bester Atmo
 sphäre verbringen können\, senden wir Ihnen vorab direkt nach Hause:\n\n
 \n\n◆\nFokus-Licht: Hochwertige Lampe mit einstellbarer Lichttemperatur 
 für tiefe Konzentration.\n\n\n\n\n◆\nDas Nacht-Journal: Exklusives Noti
 zbuch für Ihre Ideen und Strukturierungsnotizen.\n\n\n\n\n◆\nDas Buch z
 ur Methode: Hardcover-Ausgabe „Luzides Lernen — Während ihr schlaft".
 \n\n\n\nHinweis: Das Nachtakademie Starter-Set erhalten Sie einmalig bei I
 hrer ersten Buchung. Bei weiteren Seminarbuchungen ist das Starter-Set ber
 eits Teil Ihrer Nachtakademie-Ausrüstung.\n\n\n\n\n\nWas Sie brauchen: Ei
 nen Computer mit stabilem Internetzugang\, ein Headset und eine Kamera —
  beides zwingend erforderlich\, da wir im Seminar aktiv damit arbeiten. Da
 zu einen aktiven ChatGPT-Zugang — wir empfehlen die Plus-Version wegen d
 es höheren Nutzungslimits. Ein Google-Konto ist vorteilhaft. Ein zweiter 
 Bildschirm ist keine Pflicht\, aber ein echter Vorteil: auf einem verfolge
 n Sie das Seminar\, auf dem anderen setzen Sie direkt um. Alle weiteren Vo
 rbereitungshinweise erhalten Sie nach der Buchung.\n\n\n
ATTACH;FMTTYPE=image/jpeg:https://nachtakademie.de/wp-content/uploads/2026
 /04/luzid-design-hormoneller-schalter-9.jpg
END:VEVENT
BEGIN:VTIMEZONE
TZID:Europe/Berlin
X-LIC-LOCATION:Europe/Berlin
BEGIN:STANDARD
DTSTART:20261025T020000
TZOFFSETFROM:+0200
TZOFFSETTO:+0100
TZNAME:CET
END:STANDARD
END:VTIMEZONE
END:VCALENDAR