BEGIN:VCALENDAR
VERSION:2.0
PRODID:-//wp-events-plugin.com//7.2.3.1//EN
TZID:Europe/Berlin
X-WR-TIMEZONE:Europe/Berlin
BEGIN:VEVENT
UID:16@nachtakademie.de
DTSTART;TZID=Europe/Berlin:20260630T190000
DTEND;TZID=Europe/Berlin:20260703T020000
DTSTAMP:20260416T125211Z
URL:https://nachtakademie.de/veranstaltung/notion-als-betriebssystem-fuer-
 selbststaendige/
SUMMARY:Notion als Betriebssystem für Selbstständige
DESCRIPTION:\n\n\n\nNachtakademie™ · Für Selbstständige &amp\; Freiber
 ufler\n\nNotion als Betriebssystem für Selbstständige\nCRM\, Projektmana
 gement\, Wissensdatenbank und KI-Assistent — in zwei Nächten bauen Sie 
 Ihren vollständig eingerichteten Notion-Workspace\, der alle anderen Tool
 s ersetzt.\n\n\n\n\n\nSelbstständige jonglieren täglich zwischen fünf\,
  sechs\, sieben verschiedenen Tools: ein CRM hier\, eine Projektliste dort
 \, Notizen irgendwo\, Kundendaten in der E-Mail\, Angebote im Ordner. Das 
 Ergebnis ist kein System — es ist kontrolliertes Chaos. Notion Business 
 mit AI kann das alles ersetzen: CRM mit vollständiger Kundenhistorie\, Pr
 ojektmanagement mit Kanban und Timeline\, eine durchsuchbare Wissensdatenb
 ank und einen KI-Assistenten\, der Ihre Dokumente kennt und auf Zuruf antw
 ortet.\n\nDer Schlüssel liegt in den verknüpften Datenbanken: Ihr Kunde 
 ist mit seinen Projekten verknüpft\, die Projekte mit den Aufgaben\, die 
 Aufgaben mit den Rechnungen. Kein Copy-Paste mehr\, keine verlorenen Infor
 mationen. Sie verlassen die zweite Nacht mit einem vollständig eingericht
 eten Workspace\, der morgen früh produktiv ist — und Trello\, Airtable 
 und Ihr Notizbuch überflüssig macht.\nIhr Seminarfahrplan:\nIn zwei Näc
 hten\, während die Welt um Sie herum zur Ruhe kommt\, bauen wir gemeinsam
  Ihre persönliche Notion-Infrastruktur.\nNacht 1 – Dienstag\, 19:00 bi
 s Mittwoch\, 2:00 Uhr\nRuhetag – Mittwoch: bewusste Pause zum Verdauen 
 und Reflektieren\nNacht 2 – Donnerstag\, 19:00 bis Freitag\, 2:00 Uhr\n
 Der Ruhetag zwischen den beiden Nächten ist fester Bestandteil des Konzep
 ts: Das Gehirn verarbeitet neues Wissen am besten mit Abstand – besonder
 s nachts. Sie kommen zur zweiten Session bereits mit ersten eigenen Ideen 
 und Fragen.\nDer Schlachtplan\n\n\n\n\n01\nNacht 1: Fundament &amp\; CRM\n
 Workspace-Architektur aufbauen\, verknüpfte Datenbanken verstehen und ein
  vollständiges CRM einrichten: Kontakte\, Unternehmen\, Deals und Aufgabe
 n — alles miteinander verknüpft. Notion AI analysiert Ihre Kundendaten 
 und schlägt nächste Schritte vor.\n\n\n\n02\nNacht 1: Projektmanagement 
 &amp\; Automatisierungen\nProjekte in Kanban\, Timeline und Kalenderansich
 t verwalten. Custom Automations einrichten: automatische Statusänderungen
 \, Erinnerungen und Benachrichtigungen — ohne externe Tools. Jeder Teiln
 ehmende richtet sein eigenes Projekt live ein.\n\n\n\n03\nNacht 2: Wissens
 datenbank &amp\; Notion AI\nIhre persönliche Wissensdatenbank aufbauen 
 — Angebote\, Vorlagen\, Protokolle\, Prozesse. Notion AI (mit Zugriff au
 f GPT-5\, Claude und Gemini) als eingebetteten Assistenten nutzen: Dokumen
 te zusammenfassen\, Inhalte generieren\, Daten analysieren — ohne den Wo
 rkspace zu verlassen.\n\n\n\n\n\nWas Sie am nächsten Morgen besitzen\n\n\
 n\nIhr neues Können\nDer Effekt in der Praxis\n\n\n\n\nVollständiges CRM
  in Notion\nKontakte\, Deals und Kundenhistorie — alles an einem Ort\, m
 iteinander verknüpft\, sofort durchsuchbar.\n\n\nProjektmanagement-System
 \nKanban\, Timeline und Kalender für alle laufenden Projekte — inklusiv
 e automatischer Statusänderungen.\n\n\nPersönliche Wissensdatenbank\nAng
 ebote\, Vorlagen\, Prozesse und Protokolle — strukturiert\, durchsuchbar
 \, von Notion AI jederzeit abrufbar.\n\n\nNotion AI als eingebetteter Assi
 stent\nGPT-5\, Claude und Gemini direkt in Ihrem Workspace — Dokumente z
 usammenfassen\, Inhalte generieren\, Daten analysieren.\n\n\nCustom Automa
 tions\nWiederkehrende Aufgaben laufen automatisch — Erinnerungen\, Statu
 swechsel und Benachrichtigungen ohne Zutun.\n\n\n\n\n\n\nInvestition in Ih
 r Betriebssystem\n\n\nLIMITIERTE PLÄTZE\n1.990 € zzgl. MwSt.\nFrühbuch
 erpreis bis 09. Juni. Danach 2.390 €.\n\n\nDas Nachtakademie Starter-Set
  (Inklusive):\n\nDamit Sie die Nacht fokussiert und in bester Atmosphäre 
 verbringen können\, senden wir Ihnen vorab direkt nach Hause:\n\n\n\n◆\
 nFokus-Licht: Hochwertige Lampe mit einstellbarer Lichttemperatur für tie
 fe Konzentration.\n\n\n\n\n◆\nDas Nacht-Journal: Exklusives Notizbuch f
 ür Ihre Ideen und Strukturierungsnotizen.\n\n\n\n\n◆\nFachliteratur: Ha
 rdcover-Ausgabe „Luzides Lernen — Während ihr schlaft".\n\n\n\nHinwei
 s: Das Nachtakademie Starter-Set erhalten Sie einmalig bei Ihrer ersten Bu
 chung. Bei weiteren Seminarbuchungen ist das Starter-Set bereits Teil Ihre
 r Nachtakademie-Ausrüstung.\n\n\n\n\n\nIhre technische Ausstattung:\nEin 
 Laptop oder Desktop-PC mit Kamera (zwingend erforderlich) und Headset. Daz
 u benötigen Sie ein aktives Notion Business-Konto mit AI (ca. 24 €/Mona
 t) – was das genau bedeutet und wie Sie es einrichten\, erklären wir Ih
 nen vorab. Notion-Vorkenntnisse sind nicht erforderlich. Alle weiteren Vor
 bereitungshinweise erhalten Sie nach Ihrer Buchung.\n\n\n
ATTACH;FMTTYPE=image/jpeg:https://nachtakademie.de/wp-content/uploads/2026
 /04/Notion-als-Betriebssystem-fuer-Selbststaendige.-.jpg
END:VEVENT
BEGIN:VTIMEZONE
TZID:Europe/Berlin
X-LIC-LOCATION:Europe/Berlin
BEGIN:DAYLIGHT
DTSTART:20260329T030000
TZOFFSETFROM:+0100
TZOFFSETTO:+0200
TZNAME:CEST
END:DAYLIGHT
END:VTIMEZONE
END:VCALENDAR