BEGIN:VCALENDAR
VERSION:2.0
PRODID:-//wp-events-plugin.com//7.2.3.1//EN
TZID:Europe/Berlin
X-WR-TIMEZONE:Europe/Berlin
BEGIN:VEVENT
UID:27@nachtakademie.de
DTSTART;TZID=Europe/Berlin:20260602T190000
DTEND;TZID=Europe/Berlin:20260605T020000
DTSTAMP:20260420T094342Z
URL:https://nachtakademie.de/veranstaltung/mit-n8n-vom-selbststaendigen-zu
 m-system-architekten/
SUMMARY:Mit n8n vom Selbstständigen zum System-Architekten
DESCRIPTION:\n\nNachtakademie™ · Die Architektur der Freiheit\n\nMit n8n
  vom Selbstständigen zum System-Architekten\nBauen Sie in zwei Nächten I
 hren digitalen Mitarbeiter auf Basis von n8n &amp\; KI.\n\n\n\n\nDie meist
 en Solo-Selbstständigen und Freelancer arbeiten im Business\, statt am Bu
 siness. Sie sind ihr eigener Sekretär\, Buchhalter und Daten-Kurier. Das 
 Ergebnis: Die wertvollste Ressource – Ihre Kreativität – wird im Grun
 drauschen administrativer Routine erstickt.\n\nDie Nachtakademie bricht di
 eses Muster auf.\nIn zwei intensiven Nächten – mit einer bewussten Pau
 se dazwischen – erschaffen wir Ihre persönliche Automatisierungs-Infras
 truktur.\nWir reden nicht über Theorie. Wir bauen Agenten\, die E-Mails v
 orqualifizieren\, Angebote vorbereiten und Datenflüsse steuern\, während
  Sie schlafen.\nNacht 1: 19:00 Uhr bis 2:00 Uhr\nPause: Ein freier Tag z
 um Durchatmen\, Nachdenken und Setzen lassen\nNacht 2: 19:00 Uhr bis 2:00
  Uhr\nDer Tag dazwischen ist kein Zufall – er gibt Ihrem Kopf die Chance
 \, das Gelernte zu verarbeiten\, bevor wir in die Tiefe gehen. Hören Sie 
 auf\, Zeit gegen Geld zu tauschen. Fangen Sie an\, Systeme für sich arbei
 ten zu lassen.\n\n\nDer Schlachtplan\n\n\n\n01\nNacht 1: Das Nervensystem\
 nWir verbinden Ihre Tools (E-Mail\, CRM\, Kalender) über n8n zu einem lü
 ckenlosen Organismus.\n\n\n\n02\nNacht 2: Das digitale Gehirn\nWir integri
 eren KI-Agenten (OpenAI/Claude)\, die nicht nur Daten schieben\, sondern f
 ür Sie entscheiden.\n\n\n\n\nWas Sie am nächsten Morgen besitzen\n\n\n\n
 Ihre neue Infrastruktur\nDer Effekt\n\n\n\n\nAutomatisches E-Mail-Routing\
 nIhre KI sortiert\, priorisiert und entwirft Antworten – Sie sichten nur
  noch.\n\n\nKI-Agenten mit Langzeitgedächtnis\nIhre Agenten kennen Ihre K
 undenhistorie und agieren proaktiv.\n\n\nFehlerfreies Daten-Sync\nKein man
 uelles Kopieren mehr zwischen Formularen\, CRM und Rechnungs-Tool.\n\n\n\n
 \n\nInvestition in Ihre Freiheit\n\n\nLIMITIERTE PLÄTZE\n1.990 € zzgl. 
 MwSt.\nFrühbucherpreis bis 12. Mai 2026. Danach 2.390 €.\n\n\nDas Nacht
 akademie Starter-Set (Inklusive):\n\nDamit Sie die Nächte fokussiert und 
 in bester Atmosphäre verbringen können\, senden wir Ihnen vorab direkt n
 ach Hause:\n\n\n\n◆\nFokus-Licht: Hochwertige Lampe mit einstellbarer Li
 chttemperatur für tiefe Konzentration.\n\n\n\n\n◆\nDas Nacht-Journal: E
 xklusives Notizbuch für Ihre System-Skizzen und Gedankenblitze.\n\n\n\n\n
 ◆\nDie Methode: Hardcover-Ausgabe „Luzides Lernen — Während ihr sch
 laft".\n\n\n\n\nHinweis: Das Nachtakademie Starter-Set erhalten Sie einmal
 ig bei Ihrer ersten Buchung. Bei weiteren Seminarbuchungen ist das Starter
 -Set bereits Teil Ihrer Nachtakademie-Ausrüstung.\n\n\n\n\nWas Sie benöt
 igen:\nEinen Laptop oder Desktop-PC mit Kamera (zwingend erforderlich) und
  Headset. Legen Sie sich bitte einige Tage vor dem Seminar einen kostenlos
 en 14-tägigen Testaccount auf n8n.io zu – eine Anleitung dazu erhalten 
 Sie nach der Buchung. Außerdem benötigen Sie Zugriff auf ein Large Langu
 age Model wie ChatGPT oder Google Gemini (kostenlose Versionen genügen).\
 n\n\n
ATTACH;FMTTYPE=image/jpeg:https://nachtakademie.de/wp-content/uploads/2026
 /04/luzid-design-hormoneller-schalter-8.jpg
END:VEVENT
BEGIN:VTIMEZONE
TZID:Europe/Berlin
X-LIC-LOCATION:Europe/Berlin
BEGIN:DAYLIGHT
DTSTART:20260329T030000
TZOFFSETFROM:+0100
TZOFFSETTO:+0200
TZNAME:CEST
END:DAYLIGHT
END:VTIMEZONE
END:VCALENDAR