BEGIN:VCALENDAR
VERSION:2.0
PRODID:-//wp-events-plugin.com//7.2.3.1//EN
TZID:Europe/Berlin
X-WR-TIMEZONE:Europe/Berlin
BEGIN:VEVENT
UID:10@nachtakademie.de
DTSTART;TZID=Europe/Berlin:20260810T190000
DTEND;TZID=Europe/Berlin:20260811T020000
DTSTAMP:20260415T100443Z
URL:https://nachtakademie.de/veranstaltung/chatgpt-claude-gemini-notebookl
 m-fuer-berater/
SUMMARY:Seminar ChatGPT\, Claude\, Gemini & NotebookLM für Berater
DESCRIPTION:\n\nNachtakademie™ · Das KI-Quartett für Berater\n\nChatGPT
 \, Claude\, Gemini &amp\; NotebookLM für Berater\nIn einer Nacht lernen S
 ie die vier mächtigsten KI-Werkzeuge gezielt einzusetzen — und nutzen d
 as Google-Ökosystem als integrierten Wissens-Hub für Ihre Beratungspraxi
 s.\n\n\n\n\nBerater verbringen einen Großteil ihrer Zeit damit\, Wissen z
 u strukturieren\, Klienten zu verstehen und überzeugende Dokumente zu ers
 tellen. Vier KI-Systeme können diese Arbeit fundamental verändern — ab
 er nur\, wenn Sie wissen\, worin sie sich unterscheiden und wie sie zusamm
 enspielen.\n\nChatGPT denkt mit. Claude formuliert präziser. Gemini verbi
 ndet das Google-Ökosystem. NotebookLM kennt Ihre Dokumente besser als Sie
  selbst.\n\nDer entscheidende Hebel liegt im Zusammenspiel: Gemini greift 
 direkt auf NotebookLM zu — Ihre hochgeladenen Studien\, Protokolle und B
 erichte werden so zu einer befragbaren Wissensdatenbank\, die nahtlos in I
 hren Arbeitsfluss integriert ist. In dieser einen intensiven Nacht arbeite
 n Sie mit allen vier Systemen an realen Beratungsszenarien. Kein allgemein
 es Tool-Überblicks-Seminar — sondern angewandte Beratungspraxis mit KI 
 als Sparringspartner\, Recherche-Assistent und Ghostwriter. Sie verlassen 
 diese Nacht mit einem persönlichen KI-Workflow\, der ab dem nächsten Mor
 gen einsatzbereit ist.\n\n\nDer Schlachtplan\n\n\n\n01\nPhase 1: Die vier 
 Charaktere\nWir arbeiten live mit ChatGPT\, Claude\, Gemini und NotebookLM
  an identischen Beratungsaufgaben — und erleben die Unterschiede direkt.
  Stärken\, Grenzen\, Einsatzlogik. Und warum Gemini &amp\; NotebookLM zus
 ammen mehr sind als die Summe ihrer Teile.\n\n\n\n02\nPhase 2: Das Google-
 Ökosystem als Wissens-Hub\nWir bauen gemeinsam Ihre persönliche Notebook
 LM-Wissensdatenbank auf und steuern sie über Gemini — Ihre Dokumente\, 
 Protokolle und Studien werden lebendig und befragbar.\n\n\n\n03\nPhase 3: 
 Ihr persönlicher Workflow\nSie bauen Ihren eigenen KI-gestützten Beratun
 gsprozess — von der Erstgespräch-Vorbereitung über die Analyse bis zum
  fertigen Abschlussbericht. Mit 20+ einsatzbereiten Prompts für Ihren All
 tag.\n\n\n\n\nWas Sie am nächsten Morgen besitzen\n\n\n\nIhr neues Könne
 n\nDer Effekt in der Praxis\n\n\n\n\nKI-gestützte Klientenanalyse\nSie be
 reiten Erstgespräche in 15 Minuten vor\, die früher einen halben Tag dau
 erten.\n\n\nGemini + NotebookLM als Wissens-Hub\nIhre Studien\, Protokolle
  und Berichte werden zur befragbaren Datenbank — direkt aus Gemini herau
 s steuerbar.\n\n\nClaude als Präzisions-Ghostwriter\nAngebote\, Berichte 
 und Executive Summaries entstehen in einem Bruchteil der Zeit.\n\n\nChatGP
 T als Denkpartner\nStrategien entwickeln\, Szenarien durchspielen\, Hypoth
 esen testen — im Dialog\, nicht im Monolog.\n\n\nPersönliche Prompt-Bib
 liothek\nSie verlassen das Seminar mit 25+ einsatzbereiten Prompts für Ih
 ren Beratungsalltag.\n\n\n\n\n\nInvestition in Ihre Beratungsqualität\n\n
 \nLIMITIERTE PLÄTZE\n1.190 € zzgl. MwSt.\nFrühbucherpreis bis 20. Juli
  2026. Danach 1.390 €.\n\n\nDas Nachtakademie Starter-Set (Inklusive):\n
 \nDamit Sie die Nacht fokussiert und in bester Atmosphäre verbringen kön
 nen\, senden wir Ihnen vorab direkt nach Hause:\n\n\n\n◆\nFokus-Licht: H
 ochwertige Lampe mit einstellbarer Lichttemperatur für tiefe Konzentratio
 n.\n\n\n\n\n◆\nDas Nacht-Journal: Exklusives Notizbuch für Ihre Ideen u
 nd Prompt-Notizen.\n\n\n\n\n◆\nFachliteratur: Hardcover-Ausgabe „Luzid
 es Lernen — Während ihr schlaft".\n\n\n\n\nHinweis: Das Nachtakademie S
 tarter-Set erhalten Sie einmalig bei Ihrer ersten Buchung. Bei weiteren Se
 minarbuchungen ist das Starter-Set bereits Teil Ihrer Nachtakademie-Ausrü
 stung.\n\n\n\n\nWas Sie benötigen:\nEinen Computer (Laptop oder Desktop-P
 C) mit Kamera und Headset sowie aktive Zugänge zu ChatGPT (kostenlos gen
 ügt)\, Claude.ai\, Google Gemini und einem Google-Konto für NotebookLM. 
 Die Kamera ist für die Teilnahme zwingend erforderlich. Alle weiteren Vor
 bereitungshinweise erhalten Sie nach der Buchung.\n\n\n
ATTACH;FMTTYPE=image/jpeg:https://nachtakademie.de/wp-content/uploads/2026
 /04/ChatGPT-Claude-Gemini-Notebook-LM-fuer-Berater-.jpg
END:VEVENT
BEGIN:VTIMEZONE
TZID:Europe/Berlin
X-LIC-LOCATION:Europe/Berlin
BEGIN:DAYLIGHT
DTSTART:20260329T030000
TZOFFSETFROM:+0100
TZOFFSETTO:+0200
TZNAME:CEST
END:DAYLIGHT
END:VTIMEZONE
END:VCALENDAR